Workbook

Sheet ESF 06-2021 BS
C2: XX, C.A.
C3: Estado de Situación Financiera
C4: Al 30-06-2025
C5: Expresado en Bolivares.
C7: Descripción | D7: Monto. Bs. | E7: Part.
C9: Activo:
C10: Circulante
C11: Caja y Bancos:
C12: Caja | D12: 2.3215588e+11 | E12: 0.40471835
C13: Bancos | D13: 3.8794099e+09 | E13: 0.0067629921
C14: Depositos en Garantia | D14: 2403902670 | E14: 0.0041907339
C15: Total Caja y Bancos | D15: =SUM(D12:D14) -> 2.3843919e+11 | E15: 0.41567207
C17: Cuentas por Cobrar:
C18: Cuentas por Cobrar comerciales | D18: 1.6737224e+11 | E18: 0.29178075
C19: Cuentas por Cobrar empleados | D19: 9.1522593e+09 | E19: 0.015955173
C20: Total Cuentas por Cobrar | D20: =SUM(D18:D19) -> 1.765245e+11 | E20: 0.30773593
C22: Inventarios
C23: Inventarios | D23: 1.0320546e+11 | E23: 0.17991853
C24: Total Inventarios | D24: =+D23 -> 1.0320546e+11 | E24: 0.17991853
C26: Total Activo circulante | D26: =+D15+D20+D24 -> 5.1816916e+11 | E26: 0.90332653
C28: Activos Fijos
C29: Activos Depreciables (Netos) | D29: 2.6359541e+09 | E29: 0.0045952702
C30: Total Activo Fijo | D30: =+D29 -> 2.6359541e+09 | E30: 0.0045952702
C32: Otros Activos:
C33: Creditos Fiscales (Excedentes y Retenciones) | D33: 4.8787825e+10 | E33: 0.085052026
C34: Impuestos y Gastos Prepagados | D34: 4.0303776e+09 | E34: 0.0070261747
C35: Total Activo Fijo | D35: =+D33+D34 -> 5.2818203e+10 | E35: 0.092078201
C37: Total Activo | D37: =+D26+D30+D35 -> 5.7362331e+11 | E37: 0.99540473 | F37: =(D37/D66) -> 2.5676136
C40: Pasivo:
C41: Pasivo
C42: Pasivo Circulante
C43: Bancos | D43: 9.2577005e+09 | E43: 0.041438688
C44: Total Bancos | D44: =+D43 -> 9.2577005e+09 | E44: 0.041438688
C46: Cuentas x Pagar
C47: Proveedores Nacionales | D47: 7.9078652e+10 | E47: 0.35396648
C48: Otras Cuentas por Pagar (Accionistas) | D48: 2.7539412e+10 | E48: 0.12327004
C49: Impuesto Sobre la Renta por Pagar | D49: 0 | E49: 0
C50: Impuestos Parafiscales por pagar | D50: 5.3779104e+09 | E50: 0.024072236
C51: Total Cuentas por Pagar | D51: =+D47+D48+D49+D50 -> 1.1199597e+11 | E51: 0.50130875
C53: Otras cuentas por Pagar
...

Sheet ER 06-2021BS
C2: XX, C.A.
C3: Estado de Resultados
C4: Desde el 01/01/2025 al 30/06/2025
C5: Expresado en Bolivares.
C7: Descripción | D7: Año 2021 | E7: Part.
C9: Ingresos:
C10: Ventas de Productos | D10: 1.2386053e+12 | E10: 0.98671992
C11: Descuentos | D11: -2.8678208e+09 | E11: -0.0022846148
C12: Total Ingresos Operacionales | D12: 1.2357374e+12 | E12: 0.9844353
C14: Otros Ingresos | D14: =19537983564.6+541297908 -> 2.0079281e+10 | E14: 0.015564698
C15: Total Ingresos | D15: =+D12+D14 -> 1.2558167e+12 | E15: 0.015564698
C17: Costo Mercancia Vendida | D17: 7.0254565e+11 | E17: 0.5596745
C18: Total Costos Mercancia Vendida | D18: 7.0254565e+11 | E18: 0.5596745
C20: Utilidad Bruta en Ventas | D20: =+D15-D18 -> 5.5327108e+11 | E20: 0.4403255
C22: Gastos de Operaciones
C23: Adistramiento al Personal | D23: 108067800 | E23: 8.6090907e-05
C24: Aportes Patronales | D24: 36013518 | E24: 2.8689734e-05
C25: Articulos de Limpieza | D25: 663170000 | E25: 0.00052830637
C26: Depreciaciones y Amortizaciones | D26: 8.734304e+08 | E26: 0.00069580777
C27: GASTOS | D27: 0 | E27: 0
C28: Gastos de Telefono | D28: 1.2408674e+08 | E28: 9.8852199e-05
C29: Gastos de Transporte | D29: 0 | E29: 0
C30: Gastos de Uniforme | D30: 5.6365722e+08 | E30: 0.00044903071
C31: Indemnizaciones Laborales | D31: 5.9085699e+09 | E31: 0.0047069908
C32: Otros Gastos Operativos | D32: 7.6454628e+08 | E32: 0.00060906655
C33: Polizas de Seguro | D33: 9.6202488e+08 | E33: 0.00076638549
C34: Reparación y Mantenimiento de Vehiculos | D34: 5.6411371e+09 | E34: 0.0044939437
... C36: Mantenimiento Sistemas/ Redes / Internet | D36: 0 | E36: 0
C37: Total Costos Directos | D37: =SUM(D23:D36) -> 1.5924052e+10 | E37: 0.012685704
C39: Gastos Administrativos
C40: Adistramiento al Personal | D40: 963000000 | E40: 0.00076716231
C41: Aportes Patronales | D41: 28121957 | E41: 2.2403017e-05
C42: Articulos de Computación | D42: 557532280 | E42: 0.00044415135
C43: Articulos de Escritorio | D43: 79968470 | E43: 6.3705915e-05
C44: Articulos de Limpieza | D44: 6.6785853e+08 | E44: 0.00053204143
C45: Comisiones Bancarias | D45: 2.6369923e+09 | E45: 0.0021007281
C46: Cuentas Incobrables | D46: 1.531604e+08 | E46: 0.00012201338
C47: Depreciaciones y Amortizaciones | D47: 1.5180291e+08 | E47: 0.00012093196
C48: Envios y Encomiendas | D48: 0 | E48: 0
C49: Gasto de ISLR | D49: 0 | E49: 0
...

Sheet AEF MES JUNIO 2021
C2: XX, C.A.
C3: Estado de Situación Financiera
C4: Al 31-06-2025
C5: Expresado en Bolivares.
C7: Inflación Anualizada Mes Mayo OVF | E7: 2617.9672
C9: Inflación Acumulada Acumulada Mayo OVF | E9: 333.74486
C11: Datos Año 2021 Mes junio
C13: Razones Financieras al Corte 05/ 2021
C15: Liquidez
C16: Circulante: | D16: Activo Circulante/ Pasivo Circulante Mes 06/ 2025
C17: Mes 06-2021 | D17: Activo Circulante al Mes 06-2021 | E17: ='ESF 06-2021 BS'!D26 -> 5.1816916e+11
C18: Mes 06-2021 | D18: Pasivo Circulante al Mes 06-2021 | E18: ='ESF 06-2021 BS'!D61 -> 1.9025528e+11
C20: Activo Circulante/ Pasivo Circulante Mes 05/ 2025
C22: Líquidez | D22: =E17/E18 -> 2.7235468
C24: Razón de rapidez o prueba ácida
C26: Activo Circulante - Inventario / Pasivo Circulante Mes 06/ 2021
C28: Rapidez Prueba Ácida | D28: Activo Circulante - Inventario / Pasivo Circulante Mes 06/ 2025
C30: Mes 06-2021 | D30: =D17 -> Activo Circulante al Mes 06-2021 | F30: =E17 -> 5.1816916e+11
C31: Mes 06-2021 | D31: Inventario | F31: ='ESF 06-2021 BS'!D24 -> 1.0320546e+11
C32: Mes 06-2021 | D32: =D18 -> Pasivo Circulante al Mes 06-2021 | F32: =E18 -> 1.9025528e+11
C34: Razón de rapidez o prueba ácida | F34: =F31/F30 -> 0.1991733
E35: ∆ intermensual mes 06 vs mes 05 /2021
C36: Acidez Prueba rápida | D36: =(F30-F31)/F32 -> 2.181089 | E36: =(D36-'[1]AEF MES 5-2021'!$D$36)/'[1]AEF MES 5-2021'!$D$36 -> 0.59368462
C57: Inmovilización Líquidez por inventario Mes 06 2025
C59: =(D36-D22)/D22 -> -0.1991733
C62: Apalancamiento
C64: Deudas Totales a Activos Totales Deudas Totales/ Activos Totales mes 06-2025
C66: Mes 06-2021 | D66: Deudas Totales | E66: ='ESF 06-2021 BS'!D66 -> 2.2340718e+11
C67: Mes 06-2021 | D67: Activos Totales | E67: ='ESF 06-2021 BS'!D37 -> 5.7362331e+11 | F67: =E66/E67 -> 0.3894667
E68: ∆ Deudas Totales/ Activo Total mes 06 vs mes 05 | F68: =100-38.95 -> 61.05
C69: Deudas Totales a Activos Totales | D69: =E66/E67 -> 0.3894667 | E69: =(D69-'[1]AEF MES 5-2021'!$D$69)/'[1]AEF MES 5-2021'!$D$69 -> -0.1899946 | F69: =100-38.95 -> 61.05
C71: Las Deudas totales representan un 39% del Activo Total
C73: Rotación de Inventarios
C75: Rotación de Inventarios: Ventas/ Inventarios.
C77: Mes 06-2021 | D77: Ventas | E77: ='ER 06-2021BS'!D10 -> 1.2386053e+12
C78: Mes 06-2021 | D78: Inventarios | E78: ='ESF 06-2021 BS'!D24 -> 1.0320546e+11
E79: ∆ intermensual
C80: Rotación Inventarios | D80: =E77/E78 -> 12.001354 | E80: =(D80-'[1]AEF MES 5-2021'!$D$80)/'[1]AEF MES 5-2021'!$D$80 -> 1.3816526
C82: Período promedio de cobranza : Cuentas por Cobrar/ Ventas por día
C84: Mes 06-2021 | D84: Cuentas por Cobrar | E84: ='ESF 06-2021 BS'!D20 -> 1.765245e+11
...
